BEGIN:VCALENDAR
VERSION:2.0
PRODID:-//NPV Altona - ECPv6.15.20//NONSGML v1.0//EN
CALSCALE:GREGORIAN
METHOD:PUBLISH
X-WR-CALNAME:NPV Altona
X-ORIGINAL-URL:https://npv-altona.de
X-WR-CALDESC:Veranstaltungen für NPV Altona
REFRESH-INTERVAL;VALUE=DURATION:PT1H
X-Robots-Tag:noindex
X-PUBLISHED-TTL:PT1H
BEGIN:VTIMEZONE
TZID:Europe/Berlin
BEGIN:DAYLIGHT
TZOFFSETFROM:+0100
TZOFFSETTO:+0200
TZNAME:CEST
DTSTART:20250330T010000
END:DAYLIGHT
BEGIN:STANDARD
TZOFFSETFROM:+0200
TZOFFSETTO:+0100
TZNAME:CET
DTSTART:20251026T010000
END:STANDARD
BEGIN:DAYLIGHT
TZOFFSETFROM:+0100
TZOFFSETTO:+0200
TZNAME:CEST
DTSTART:20260329T010000
END:DAYLIGHT
BEGIN:STANDARD
TZOFFSETFROM:+0200
TZOFFSETTO:+0100
TZNAME:CET
DTSTART:20261025T010000
END:STANDARD
BEGIN:DAYLIGHT
TZOFFSETFROM:+0100
TZOFFSETTO:+0200
TZNAME:CEST
DTSTART:20270328T010000
END:DAYLIGHT
BEGIN:STANDARD
TZOFFSETFROM:+0200
TZOFFSETTO:+0100
TZNAME:CET
DTSTART:20271031T010000
END:STANDARD
END:VTIMEZONE
BEGIN:VEVENT
DTSTART;TZID=Europe/Berlin:20260806T170000
DTEND;TZID=Europe/Berlin:20260806T170000
DTSTAMP:20260419T160240
CREATED:20230915T124457Z
LAST-MODIFIED:20251103T165949Z
UID:1593-1786035600-1786035600@npv-altona.de
SUMMARY:Arbeitsdienst: Turniervorbereitung Agility (Airport Cup)
DESCRIPTION:Wenn du an diesem Arbeitstag teilnehmen möchtest melde dich bitte hier an: https://npv-altona.de/anmeldung-agi-helfer
URL:https://npv-altona.de/termine/arbeitsdienst-turniervorbereitung-agility-airport-cup/
CATEGORIES:Arbeitsdienst
ATTACH;FMTTYPE=image/jpeg:https://npv-altona.de/wp-content/uploads/2018/02/Putzeimer-16-9.jpg
END:VEVENT
BEGIN:VEVENT
DTSTART;TZID=Europe/Berlin:20260807T080000
DTEND;TZID=Europe/Berlin:20260807T170000
DTSTAMP:20260419T160240
CREATED:20251103T165412Z
LAST-MODIFIED:20251103T165412Z
UID:5463-1786089600-1786122000@npv-altona.de
SUMMARY:Agility Airport Cup - Freitag
DESCRIPTION:Vorbehaltlich Fristschutz – \nWeiter Informationen zu diesem Turnier findest du hier.
URL:https://npv-altona.de/termine/agility-airport-cup-freitag/
CATEGORIES:Turnier
END:VEVENT
BEGIN:VEVENT
DTSTART;TZID=Europe/Berlin:20260808T090000
DTEND;TZID=Europe/Berlin:20260808T180000
DTSTAMP:20260419T160240
CREATED:20230915T123631Z
LAST-MODIFIED:20251103T165236Z
UID:921-1786179600-1786212000@npv-altona.de
SUMMARY:Agility Airport Cup - Samstag
DESCRIPTION:Vorbehaltlich Fristschutz – \nWeiter Informationen zu diesem Turnier findest du hier.
URL:https://npv-altona.de/termine/agility-airport-cup-sa/
CATEGORIES:Arbeitsdienst,Turnier
ATTACH;FMTTYPE=image/png:https://npv-altona.de/wp-content/uploads/2017/11/HH-Airport-Logo.png
END:VEVENT
BEGIN:VEVENT
DTSTART;TZID=Europe/Berlin:20260809T090000
DTEND;TZID=Europe/Berlin:20260809T170000
DTSTAMP:20260419T160240
CREATED:20180122T161513Z
LAST-MODIFIED:20251103T165156Z
UID:917-1786266000-1786294800@npv-altona.de
SUMMARY:Agility Airport Cup - Sonntag
DESCRIPTION:Vorbehaltlich Fristschutz – \nWeiter Informationen zu diesem Turnier findest du hier.
URL:https://npv-altona.de/termine/agility-airport-cup-so/
CATEGORIES:Arbeitsdienst,Turnier
ATTACH;FMTTYPE=image/png:https://npv-altona.de/wp-content/uploads/2017/11/HH-Airport-Logo.png
END:VEVENT
END:VCALENDAR