BEGIN:VCALENDAR
VERSION:2.0
PRODID:-//NPV Altona - ECPv6.15.20//NONSGML v1.0//EN
CALSCALE:GREGORIAN
METHOD:PUBLISH
X-ORIGINAL-URL:https://npv-altona.de
X-WR-CALDESC:Veranstaltungen für NPV Altona
REFRESH-INTERVAL;VALUE=DURATION:PT1H
X-Robots-Tag:noindex
X-PUBLISHED-TTL:PT1H
BEGIN:VTIMEZONE
TZID:Europe/Berlin
BEGIN:DAYLIGHT
TZOFFSETFROM:+0100
TZOFFSETTO:+0200
TZNAME:CEST
DTSTART:20250330T010000
END:DAYLIGHT
BEGIN:STANDARD
TZOFFSETFROM:+0200
TZOFFSETTO:+0100
TZNAME:CET
DTSTART:20251026T010000
END:STANDARD
BEGIN:DAYLIGHT
TZOFFSETFROM:+0100
TZOFFSETTO:+0200
TZNAME:CEST
DTSTART:20260329T010000
END:DAYLIGHT
BEGIN:STANDARD
TZOFFSETFROM:+0200
TZOFFSETTO:+0100
TZNAME:CET
DTSTART:20261025T010000
END:STANDARD
BEGIN:DAYLIGHT
TZOFFSETFROM:+0100
TZOFFSETTO:+0200
TZNAME:CEST
DTSTART:20270328T010000
END:DAYLIGHT
BEGIN:STANDARD
TZOFFSETFROM:+0200
TZOFFSETTO:+0100
TZNAME:CET
DTSTART:20271031T010000
END:STANDARD
END:VTIMEZONE
BEGIN:VEVENT
DTSTART;VALUE=DATE:20260912
DTEND;VALUE=DATE:20260913
DTSTAMP:20260419T173715
CREATED:20240227T113150Z
LAST-MODIFIED:20251231T150008Z
UID:4704-1789171200-1789257599@npv-altona.de
SUMMARY:Agility Seminar - Samstag
DESCRIPTION:
URL:https://npv-altona.de/termine/agility-seminar/
CATEGORIES:Seminar
ATTACH;FMTTYPE=image/jpeg:https://npv-altona.de/wp-content/uploads/2023/06/klein.jpg
END:VEVENT
BEGIN:VEVENT
DTSTART;VALUE=DATE:20260913
DTEND;VALUE=DATE:20260914
DTSTAMP:20260419T173715
CREATED:20251231T150052Z
LAST-MODIFIED:20251231T150052Z
UID:5549-1789257600-1789343999@npv-altona.de
SUMMARY:Agility Seminar - Sonntag
DESCRIPTION:
URL:https://npv-altona.de/termine/agility-seminar-sonntag/
CATEGORIES:Seminar
END:VEVENT
END:VCALENDAR